BEGIN:VCALENDAR
VERSION:2.0
PRODID:-//Events//EN
CALSCALE:GREGORIAN
METHOD:PUBLISH
BEGIN:VEVENT
UID:event_2602@www.scale-mx.org
DTSTAMP:20260423T131653Z
DTSTART;TZID=Europe/Berlin:20260508T100000
DTEND;TZID=Europe/Berlin:20260508T110000
SUMMARY:SCALE-MX Webinar M-Xperience “Serviceorientierte Geschäftsmodelle”
DESCRIPTION:In unserer monatlichen Dialogreihe „M-Xperience“ wollen wir Ihnen einen breiten Überblick über das Datenökosystem Manufacturing-X, den Ergebnissen aus den MX-Projekten sowie über die dahinterstehenden Technologien und die entsprechenden Anbindungsvoraussetzungen an das Datenökosystem für Ihr Unternehmen geben.  In diesem Webinar erhalten Sie einen praxisnahen Einblick in das Schwerpunktthema \"Serviceorientierte Geschäftsmodelle\" mit näheren Details zu den jeweiligen Use-Cases.
LOCATION:Online, Webinar
END:VEVENT
END:VCALENDAR
