BEGIN:VCALENDAR
VERSION:2.0
PRODID:-//Events//EN
CALSCALE:GREGORIAN
METHOD:PUBLISH
BEGIN:VEVENT
UID:event_2451@www.scale-mx.org
DTSTAMP:20260425T125446Z
DTSTART;TZID=Europe/Berlin:20260513T100000
DTEND;TZID=Europe/Berlin:20260513T120000
SUMMARY:Train-the-Trainer | Einführungsmodul: Industrielle Datenräume für kleine und mittlere Unternehmen (Modul 1)
DESCRIPTION:Viele Unternehmen stehen vor großen Herausforderungen - Bürokratie, steigende Kundenanforderungen und Fachkräftemangel führen zu hohen Kosten, Frust und Wettbewerbsproblemen. Lösungen bieten Datenökosysteme. Datenökosysteme ermöglichen einen sicheren, souveränen und direkten Datenaustausch. Sie sind zentral für die zukünftige Wettbewerbsfähigkeit von kleineren und mittleren Unternehmen. Das Train-the-Trainer-Programm richtet sich an Multiplikator:innen, die sich fachlich und methodisch rund um Datenökosysteme weiterbilden wollen. Ziel des Programms ist es, Ihnen ein grundlegendes Verständnis über Datenökosysteme zu vermitteln und warum sie relevant für Unternehmen sind. Hierzu wird Ihnen praxisnah aufbereitetes Wissen vermittelt und Methoden an die Hand gegeben, um Potenziale einschätzen und an Ihre Zielgruppe vermitteln zu können. Darüber hinaus können Sie den Reifegrad von Unternehmen für die Teilnahme an Datenökosystemen einschätzen und ihnen konkrete Schritte aufzeigen, wie sie von den Vorteilen profitieren können. Besondere Vorkenntnisse im Bereich Digitalisierung sind nicht erforderlich. Die Teilnahme ist kostenlos. https://event.dihk.de/b?p=trainthetrainerdatenteilenkontrollebehaltenDurchlauf2
LOCATION:Online, Webinar
END:VEVENT
END:VCALENDAR
